BEGIN:VCALENDAR
VERSION:2.0
PRODID:icalendar-ruby
CALSCALE:GREGORIAN
METHOD:PUBLISH
BEGIN:VEVENT
DTSTAMP:20260422T220051Z
UID:event-213168@stampinup.net
DTSTART;TZID=America/Chicago:20240705T120000
DTEND;TZID=America/Chicago:20240705T130000
CREATED:20240105T071851
DESCRIPTION:\nCreate with Kelley Crew (SU customers) and Crew Captains (Sta
 mpin' Up! team members/downline) enjoy  social time together since we're 
 often too busy during classes to really "catch up."  Our monthly 1st Frid
 ay at noon lunch* allows us time to showcase sample cards or projects we'v
 e made and learn about new fun techniques or Stampin' Up! products\, speci
 als\, etc. We also learn more about each other personally so that we're co
 mfortable sharing stories\, challenges\, celebrations and prayer requests.
  We encourage and inspire each other as crafty friends. As my wonderful Mo
 m used to say:  "You're always welcome but never obligated." (Just please
  RSVP by the prior Tuesday so we're sure to have a room/tables large enoug
 h for all of us. Locations vary.)  Hope to see you soon!\n*unless otherwi
 se indicated.\n\n\nEvent link: https://stampinup.net/crm/events/213168
LAST-MODIFIED:20240705T081952
LOCATION:Varies...email me for details if not posted
ORGANIZER;CN=Kelley Pitts:mailto:kelley@createwithkelley.com
SUMMARY:Create With Kelley Crew Lunch (1st Friday*)
URL;VALUE=URI:https://stampinup.net/crm/events/213168
END:VEVENT
END:VCALENDAR
