BEGIN:VCALENDAR
VERSION:2.0
PRODID:icalendar-ruby
CALSCALE:GREGORIAN
METHOD:PUBLISH
BEGIN:VEVENT
DTSTAMP:20260425T020124Z
UID:event-212850@stampinup.net
DTSTART;VALUE=DATE:20240227
DTEND;VALUE=DATE:20240227
CREATED:20240104T084427
DESCRIPTION:Interactive cards catch everyone’s attention!  Let’s make 
 some cards with moving parts.  We will make 5 cards which you’ll love s
 ending to someone special.\n\n \n\nWhen:  Choose one of the dates listed
  below to attend\n\n\n	Tuesday\, February 20\, 1:00 OR 6:30 P.M.\n	Thursda
 y\, February 22\, 1:00 OR 6:30 P.M.\n	Tuesday\, February 27\, 1:00 OR 6:30
  P.M.\n\n\n \n\nWhere: StampThat\, New Freedom\, PA\n\nCost: non-refundab
 le $20.00 \n\nRSVP:  with payment\, at least 2 days before you plan to at
 tend class\n\nSupplies to bring:  Stampin’ Seal\, Tear &amp\; Tape\, an
 d Dimensionals\n\n\nEvent link: https://stampinup.net/crm/events/212850
LAST-MODIFIED:20240104T084427
LOCATION:StampThat Studio\, New Freedom\, PA
ORGANIZER;CN=Becky Jensen:mailto:becky@stampthat.com
SUMMARY:Make It Move
URL;VALUE=URI:https://stampinup.net/crm/events/212850
END:VEVENT
END:VCALENDAR
