BEGIN:VCALENDAR
VERSION:2.0
PRODID:icalendar-ruby
CALSCALE:GREGORIAN
METHOD:PUBLISH
BEGIN:VEVENT
DTSTAMP:20260420T111606Z
UID:event-212839@stampinup.net
DTSTART;VALUE=DATE:20240213
DTEND;VALUE=DATE:20240213
CREATED:20240104T083858
DESCRIPTION:We will make three 12”x12” 2-page layouts in class.  I wil
 l predesign these layouts and send you pictures of the layouts so you can 
 choose your pictures to bring along to class if desired.  (Some choose to
  make the layouts in class and then add their pictures later – whichever
  works for you!)\n\nWhen:  Choose from any of the dates/times listed belo
 w:\n\n\n	Thursday\, February 8\, 1:00 OR 6:30 P.M.\n	Thursday\, February 1
 3\, 1:00 OR 6:30 P.M.\n	Tuesday\, February 15\, 1:00 OR 6:30 P.M.\n\n\n \
 n\nWhere: StampThat Studio\, New Freedom\, PA\nCost: non-refundable $25.0
 0\nRSVP: with payment\, by February 6\nSupplies to bring:  Stampin’ Se
 al\, Tear &amp\; Tape\, and Dimensionals\n\n\nEvent link: https://stampinu
 p.net/crm/events/212839
LAST-MODIFIED:20240104T083858
LOCATION:StampThat Studio\, New Freedom\, PA
ORGANIZER;CN=Becky Jensen:mailto:becky@stampthat.com
SUMMARY:February Scrap Club
URL;VALUE=URI:https://stampinup.net/crm/events/212839
END:VEVENT
END:VCALENDAR
