BEGIN:VCALENDAR
VERSION:2.0
PRODID:icalendar-ruby
CALSCALE:GREGORIAN
METHOD:PUBLISH
BEGIN:VEVENT
DTSTAMP:20260423T194348Z
UID:event-212781@stampinup.net
DTSTART;TZID=America/New_York:20250117T120000
DTEND;TZID=America/New_York:20250120T160000
CREATED:20240104T070146
DESCRIPTION:I'm excited to be hosting 60 guests for my first Creative Escap
 e Weekend of 2025. Contact me to get on my list for future Creative Escape
  Weekends.\n\nEvent link: https://stampinup.net/crm/events/212781
LAST-MODIFIED:20240104T070146
LOCATION:Cincinnati\, OH 
ORGANIZER;CN=Mary Knabe:mailto:mknabe2008@gmail.com
SUMMARY:Creative Escape Weekend
URL;VALUE=URI:https://stampinup.net/crm/events/212781
END:VEVENT
END:VCALENDAR
