BEGIN:VCALENDAR
VERSION:2.0
PRODID:icalendar-ruby
CALSCALE:GREGORIAN
METHOD:PUBLISH
BEGIN:VEVENT
DTSTAMP:20260420T230651Z
UID:event-212127@stampinup.net
DTSTART;TZID=America/Denver:20240116T100000
DTEND;TZID=America/Denver:20240116T120000
CREATED:20240101T163054
DESCRIPTION:Join us from 10am-12pm at Rez's Crossroad location in Loveland\
 , CO.\nWe get together and make greeting cards/paper crafts etc. This grou
 p is open to...you guessed it\, a craft group that's all about paper craft
 ing (card making\, paper crafts\, etc.)\, getting together\, having fun\, 
 meeting new people.\nWe primarily feature Stampin' Up! products. Come craf
 t and fellowship with others who also enjoy papercrafting.\nCost is ONLY $
 20\n***Please bring your basic crafting kits: adhesive\, scissors\, etc. D
 on't have\, do not fret\, I will have adhesive for purchase.***\nR.S.V.P r
 equired by 2 days before weekly event please to allow for class prep. We w
 ill be meeting in the Large Classroom which is located across the hall fro
 m the church front office!\nCommunication: PLEASE LET ME KNOW ASAP IF YOU 
 WILL BE JOINING US SO I CAN BEGIN PREPARING PROJECTS!\nCan't make it in pe
 rson\, we have Kits To Go! Let me know if you are interested!\n\nEvent lin
 k: https://stampinup.net/crm/events/212127
LAST-MODIFIED:20240101T163054
LOCATION:Rez Church Crossroads Campus \, 6502 E Crossroads Blvd.\, Loveland
 \, CO 80538
ORGANIZER;CN=Terri Brumagim:mailto:tbrumagim@msn.com
SUMMARY:Cards with Crafts A Latte
URL;VALUE=URI:https://stampinup.net/crm/events/212127
RRULE:FREQ=MONTHLY;BYDAY=3TU
END:VEVENT
END:VCALENDAR
