BEGIN:VCALENDAR
VERSION:2.0
PRODID:icalendar-ruby
CALSCALE:GREGORIAN
METHOD:PUBLISH
BEGIN:VEVENT
DTSTAMP:20260420T075013Z
UID:event-21209@stampinup.net
DTSTART;TZID=America/New_York:20191121T180000
DTEND;TZID=America/New_York:20191121T203000
CREATED:20191027T123023
DESCRIPTION:Class fee of $49 includes the Snowman Season Photopolymer Stamp
  Set and Snowman Builder Punch (p.19 in Holiday Catalog).   Please RSVP 
 by Friday\, November 15.\n \nYou'll make 8 cards (2 each of 4 designs) at
  this class.\n \n\n\n \n\n\n\n\nAlready have the bundle\, stamp set or pu
 nch we're using at class?? \n\n\n\n\nJust substitute for something else!!
 \n \n\nAnd... I'll take $5 off your class fee with an order that day only
 !!\n\n\n\nEvent link: https://stampinup.net/crm/events/21209
LAST-MODIFIED:20191027T123023
LOCATION:Gathering Inkspiration Stamp Studio\, 209 E Superior St   Alma\, M
 I  48801
ORGANIZER;CN=Amy Frillici:mailto:amy.frillici@yahoo.com
SUMMARY:Snowman Season Bundle Class
URL;VALUE=URI:https://stampinup.net/crm/events/21209
END:VEVENT
END:VCALENDAR
