BEGIN:VCALENDAR
VERSION:2.0
PRODID:icalendar-ruby
CALSCALE:GREGORIAN
METHOD:PUBLISH
BEGIN:VEVENT
DTSTAMP:20260421T101819Z
UID:event-212079@stampinup.net
DTSTART;TZID=America/Phoenix:20240713T100000
DTEND;TZID=America/Phoenix:20240713T140000
CREATED:20240101T134700
DESCRIPTION:Participants will make 4 different cards\, 2 of each design for
  a total of 8 cards.  Envelopes are provided. \nCost: $40 or FREE with a
  $75.00 purchase from my online store on the day of the class using my cur
 rent host code. \n \n\nEvent link: https://stampinup.net/crm/events/2120
 79
LAST-MODIFIED:20240101T134700
LOCATION:My Home
ORGANIZER;CN=Nancy Shelton:mailto:nancyspapercrafting@gmail.com
SUMMARY:Card Workshop
URL;VALUE=URI:https://stampinup.net/crm/events/212079
END:VEVENT
END:VCALENDAR
