BEGIN:VCALENDAR
VERSION:2.0
PRODID:icalendar-ruby
CALSCALE:GREGORIAN
METHOD:PUBLISH
BEGIN:VEVENT
DTSTAMP:20260419T171516Z
UID:event-211796@stampinup.net
DTSTART;TZID=America/Los_Angeles:20240224T130000
DTEND;TZID=America/Los_Angeles:20240224T170000
CREATED:20231230T171220
DESCRIPTION:Got photos? Come out and create some beautiful layouts to save 
 those photos. Whether you have never scrapbooked before or have been scrap
 ping for years\, this is the perfect afternoon of playing with stamps\, in
 ks and paper. Cost is $30.00 which includes a goody bag valued at more tha
 n $25.00. Space is extremely limited\, so RSVP early to save your spot.\n\
 nEvent link: https://stampinup.net/crm/events/211796
LAST-MODIFIED:20231230T171220
LOCATION:My Studio\, Redding\, CA
ORGANIZER;CN=Laurie Servis:mailto:laurie@scrapsbysissy.com
SUMMARY:February Scrap Club
URL;VALUE=URI:https://stampinup.net/crm/events/211796
END:VEVENT
END:VCALENDAR
