BEGIN:VCALENDAR
VERSION:2.0
PRODID:icalendar-ruby
CALSCALE:GREGORIAN
METHOD:PUBLISH
BEGIN:VEVENT
DTSTAMP:20260424T202337Z
UID:event-211776@stampinup.net
DTSTART;TZID=America/Los_Angeles:20240719T100000
DTEND;TZID=America/Los_Angeles:20240719T170000
CREATED:20231230T164344
DESCRIPTION:Come and create 6 full cards with envelopes with the Stamp Club
  members. You have 2 time slots to choose from\; 10:30 am or 3:00 pm. Cost
  is $25.00 or free with a qualifying order. Join our club and one month yo
 u will earn free product! Space is limited so be sure to RSVP early!\n\nEv
 ent link: https://stampinup.net/crm/events/211776
LAST-MODIFIED:20231230T164344
LOCATION:My Studio\, Redding\, CA
ORGANIZER;CN=Laurie Servis:mailto:laurie@scrapsbysissy.com
SUMMARY:July Stamp Club
URL;VALUE=URI:https://stampinup.net/crm/events/211776
END:VEVENT
END:VCALENDAR
