BEGIN:VCALENDAR
VERSION:2.0
PRODID:icalendar-ruby
CALSCALE:GREGORIAN
METHOD:PUBLISH
BEGIN:VEVENT
DTSTAMP:20260422T012440Z
UID:event-211771@stampinup.net
DTSTART;TZID=America/Los_Angeles:20240216T100000
DTEND;TZID=America/Los_Angeles:20240216T170000
CREATED:20231230T163830
DESCRIPTION:Come and create 6 full cards with envelopes with the Stamp Club
  members. You have 2 time slots to choose from\; 10:00 am or 3:00 pm. Cost
  is $25.00 or free with a qualifying order. Join our club and one month yo
 u will earn free product! Space is limited so be sure to RSVP early!\n\nEv
 ent link: https://stampinup.net/crm/events/211771
LAST-MODIFIED:20231230T163830
LOCATION:My Studio\, Redding\, CA
ORGANIZER;CN=Laurie Servis:mailto:laurie@scrapsbysissy.com
SUMMARY:February Stamp Club
URL;VALUE=URI:https://stampinup.net/crm/events/211771
END:VEVENT
END:VCALENDAR
