BEGIN:VCALENDAR
VERSION:2.0
PRODID:icalendar-ruby
CALSCALE:GREGORIAN
METHOD:PUBLISH
BEGIN:VEVENT
DTSTAMP:20260423T201915Z
UID:event-210580@stampinup.net
DTSTART;TZID=America/Chicago:20240306T193000
DTEND;TZID=America/Chicago:20240306T203000
CREATED:20231218T170152
DESCRIPTION:This is a great way to have an open forum for any questions abo
 ut creating\, selling\, customers\, or if you just want to come hang out!
   Zoom Link to come!\n\nEvent link: https://stampinup.net/crm/events/2105
 80
LAST-MODIFIED:20240306T124450
LOCATION:In the comfort of your home!\, ZOOM
ORGANIZER;CN=Laura Venvertloh:mailto:laurascreativecorner2007@gmail.com
SUMMARY:Team Talk Zoom
URL;VALUE=URI:https://stampinup.net/crm/events/210580
END:VEVENT
END:VCALENDAR
