BEGIN:VCALENDAR
VERSION:2.0
PRODID:icalendar-ruby
CALSCALE:GREGORIAN
METHOD:PUBLISH
BEGIN:VEVENT
DTSTAMP:20260422T193818Z
UID:event-210499@stampinup.net
DTSTART;TZID=America/New_York:20240208T180000
DTEND;TZID=America/New_York:20240208T204500
CREATED:20231218T092435
DESCRIPTION:Want to make SCRAPBOOK layouts? Come join me for the next Quic
 k &amp\; Cute SCRAPBOOK Class at the Tett Creativity Centre in Kingston 
 on Thursday\, February 8th from 6:00-8:45pm. Class will be held in the 
 Activity Room\, Room #108.\n\nCost is $36 ($31.86 + HST) and includes the
  Hot Air Balloon* stamp set and all the consumable products needed to cre
 ate 3 12x12 scrapbook layouts (3 designs\, 1 of each design)!\n\nRegistrat
 ion for the class ends on January 29th to allow for ordering\, and pre-p
 aid registration is required to hold your spot.   Want the kit but can't
  attend on the 8th?  Let us know\, and we can arrange to ship your kit to
  you after the 8th!  Please note that for shipped kits\, adhesive and ink
  is not included.\n\nSpace is limited\, pre-registration is required.\n\nF
 ood and drink are available for purchase from the Juniper Cafe until 7pm 
 if you are interested!  Make it the ultimate night out and grab a few fri
 ends for dinner &amp\; crafts! Parking is free in the evenings. We will be
  located in the basement level of the building which is accessible by elev
 ator or by stairs! Unable to make the class? This class will also be avai
 lable in a to-go format!\n\n*Although stamp sets are rarely back-ordered\,
  in the event that the specified stamp set is unavailable on January 29th
 \, another stamp set of equivalent value will be substituted. In the even
 t of a lockdown\, if the lockdown is announced prior to January 29th (w
 hen materials are ordered)\, event fees will be refunded. If a lockdown is
  announced between January 29th and February 8th (after materials are 
 ordered)\, the class will be moved to an online format. Please note that t
 he same cut-offs apply for cancellations of any kind as this class is prod
 uct-based.\n\nPlease note that a ticket will not be emailed. The receipt o
 f payment is automatically recorded. If you are planning to attend with a 
 group and want to be seated together\, please let us know!\n\n\nEvent link
 : https://stampinup.net/crm/events/210499
LAST-MODIFIED:20231218T092435
LOCATION:Tett Centre for Creativity and Learning\,  Activity Room #108\, 37
 0 King St W\, Kingston\, ON K7L 2X4
ORGANIZER;CN=Lisa Henderson:mailto:lisa.henderson003@gmail.com
SUMMARY:February Quick & Cute Scrapbook Class
URL;VALUE=URI:https://stampinup.net/crm/events/210499
END:VEVENT
END:VCALENDAR
