BEGIN:VCALENDAR
VERSION:2.0
PRODID:icalendar-ruby
CALSCALE:GREGORIAN
METHOD:PUBLISH
BEGIN:VEVENT
DTSTAMP:20260425T125718Z
UID:event-210268@stampinup.net
DTSTART;TZID=America/Phoenix:20240511T140000
DTEND;TZID=America/Phoenix:20240511T170000
CREATED:20231213T140704
DESCRIPTION:Yay!  One of my favorite classes of the year!  Time to bring 
 on all those cute critters we've been seeing!  This class will feature at
  least 5 cards with envelopes\, for all occasions\, and includes all your 
 supplies (bring your own favorite snips and adhesive!)\, plus snacks\, dri
 nks and a special gift from me\, all for $25!  This class can also be FRE
 E with your order of $30 or more!  RSVP now to save your spot!\n\nEvent l
 ink: https://stampinup.net/crm/events/210268
LAST-MODIFIED:20231213T140704
LOCATION:Chez Heroldt
ORGANIZER;CN=Heather Heroldt:mailto:heatherheroldt@msn.com
SUMMARY:Critter Class 2024
URL;VALUE=URI:https://stampinup.net/crm/events/210268
END:VEVENT
END:VCALENDAR
