BEGIN:VCALENDAR
VERSION:2.0
PRODID:icalendar-ruby
CALSCALE:GREGORIAN
METHOD:PUBLISH
BEGIN:VEVENT
DTSTAMP:20260424T132503Z
UID:event-210267@stampinup.net
DTSTART;TZID=America/Phoenix:20240713T140000
DTEND;TZID=America/Phoenix:20240713T170000
CREATED:20231213T140235
DESCRIPTION:Woo\, we are in the dog days of summer now for sure!  What can
  we do to beat the heat??  How about a summer fun card class\, about all 
 the fun stuff we do to while away the lazy summer days!  Come join me for
  at least 5 cards\, with envelopes\, all about the good summer times!  Al
 l supplies included (bring your own favorite snips and basic adhesive!) pl
 us snacks\, drinks\, and a special gift from me\, all for $25!  This clas
 s can also be FREE with your order of $30 or more!  RSVP now to save your
  spot!\n\nEvent link: https://stampinup.net/crm/events/210267
LAST-MODIFIED:20240607T120504
LOCATION:Chez Heroldt
ORGANIZER;CN=Heather Heroldt:mailto:heatherheroldt@msn.com
SUMMARY:Summer Fun Class
URL;VALUE=URI:https://stampinup.net/crm/events/210267
END:VEVENT
END:VCALENDAR
