BEGIN:VCALENDAR
VERSION:2.0
PRODID:icalendar-ruby
CALSCALE:GREGORIAN
METHOD:PUBLISH
BEGIN:VEVENT
DTSTAMP:20260424T024640Z
UID:event-210223@stampinup.net
DTSTART;TZID=America/Chicago:20241026T093000
DTEND;TZID=America/Chicago:20241026T120000
CREATED:20231213T074133
DESCRIPTION:Click here to reserve your spot.\nFREE with an order:\nAll supp
 lies to make 5 unique\, all-occasion cards\, envelopes included\nDisplays 
 and catalogs\nFriendship and fun\nAll levels of crafters welcome\n\nEvent 
 link: https://stampinup.net/crm/events/210223
LAST-MODIFIED:20241024T070820
LOCATION:Tower City Church\, 11220 Perrin Beitel\, 78217
ORGANIZER;CN=Candy Rattray:mailto:crattray@sbcglobal.net
SUMMARY:Saturday Card Class
URL;VALUE=URI:https://stampinup.net/crm/events/210223
END:VEVENT
END:VCALENDAR
