BEGIN:VCALENDAR
VERSION:2.0
PRODID:icalendar-ruby
CALSCALE:GREGORIAN
METHOD:PUBLISH
BEGIN:VEVENT
DTSTAMP:20260419T115748Z
UID:event-21020@stampinup.net
DTSTART;TZID=America/Denver:20191123T100000
DTEND;TZID=America/Denver:20191123T130000
CREATED:20191026T090550
DESCRIPTION:Come and make some fun Christmas Cards!! All will be "mailable"
 --all you'll need to do is address and add a stamp! We'll make 20 Cards --
  4 each of 5 designs!\n\nPlease bring your favorite adhesive. I will have 
 SNAIL refills available for $5 each\, if you need them.\n\nClick HERE to r
 egister\n\n\nEvent link: https://stampinup.net/crm/events/21020
LAST-MODIFIED:20191118T164140
LOCATION:Tammy's Stamp Studio\, 6115 Medford Ct NW
ORGANIZER;CN=Tammy Fite:mailto:stampwithtammy@gmail.com
SUMMARY:Holiday Stamp-a-Stack
URL;VALUE=URI:https://stampinup.net/crm/events/21020
END:VEVENT
END:VCALENDAR
