BEGIN:VCALENDAR
VERSION:2.0
PRODID:icalendar-ruby
CALSCALE:GREGORIAN
METHOD:PUBLISH
BEGIN:VEVENT
DTSTAMP:20260422T223903Z
UID:event-209437@stampinup.net
DTSTART;TZID=America/Chicago:20240213T140000
DTEND;TZID=America/Chicago:20240213T170000
CREATED:20231204T090122
DESCRIPTION:Members - Please have your club orders in by February 13th. Cl
 ass supplies will be available for porch pickup or can be mailed to you if
  you do not wish to attend in person. Please register for classes by Janua
 ry 18th.\n\nLOCAL STAMP CLUB\nMake a commitment to order a minimum of $25 
 of merchandise each month and receive $5.00 OFF monthly classes. Additiona
 l $1 OFF the class for each additional $5 that you order. Get FREE Catalog
 s while you are a member.  Place your monthly order by the stamp club dat
 e. I will keep track of your orders.  When you have reached $250 in merch
 andise\, you will receive $25 in hostess benefits with your next order.  
 You can pick up your monthly order at the next month’s class. You can at
 tend class on any of the class dates\, you are not restricted to the stamp
  club date. If there is a month when I do not hold in person classes\, I w
 ill email you a pdf tutorial for the cards of the month.\n\nONLINE STAMP C
 LUB\nMake a commitment to order a minimum of $25 of merchandise (before sh
 ipping &amp\; tax) each month in my online store using the monthly hostess
  code by the stamp club date.  I will keep track of your orders.  When y
 ou have reached $250 in merchandise\, you will receive $25 in hostess bene
 fits with your next order. (To get free shipping on your hostess benefits\
 , it must accompany an order. I will have to place that order for you.  Y
 ou will be responsible for sales tax on the hostess benefits.) I will emai
 l you a pdf tutorial each month for the class cards of the month. If you w
 ish to purchase the supplies for the class\, you may do so using the same 
 discounts as the local members plus shipping. Class supply kits must be or
 dered by the order deadline each month.\n \n\nEvent link: https://stampin
 up.net/crm/events/209437
LAST-MODIFIED:20231204T090122
ORGANIZER;CN=Susan Miller:mailto:STAMPIN@DREAMLAKEDESIGN.COM
SUMMARY:Stamp Club Meeting
URL;VALUE=URI:https://stampinup.net/crm/events/209437
END:VEVENT
END:VCALENDAR
