BEGIN:VCALENDAR
VERSION:2.0
PRODID:icalendar-ruby
CALSCALE:GREGORIAN
METHOD:PUBLISH
BEGIN:VEVENT
DTSTAMP:20260420T094210Z
UID:event-209303@stampinup.net
DTSTART;VALUE=DATE:20231210
DTEND;VALUE=DATE:20231210
CREATED:20231201T182029
DESCRIPTION:Join me for my monthly card club\,  Class will be held  on th
 e last Saturday and Sunday of the month. Limit 4 people per class\nCost is
  $45 in person or $50 by mail and includes 3 Make and Takes\, 1/2 Package 
 Designer Series Paper\, Embellishments and Ribbon\n\nRegister\n\nEvent lin
 k: https://stampinup.net/crm/events/209303
LAST-MODIFIED:20231201T182029
ORGANIZER;CN=Melva Peters:mailto:stampinwithmelva@gmail.com
SUMMARY:Registration closes for Monthly Card Club
URL;VALUE=URI:https://stampinup.net/crm/events/209303
END:VEVENT
END:VCALENDAR
