BEGIN:VCALENDAR
VERSION:2.0
PRODID:icalendar-ruby
CALSCALE:GREGORIAN
METHOD:PUBLISH
BEGIN:VEVENT
DTSTAMP:20260425T211500Z
UID:event-209008@stampinup.net
DTSTART;TZID=America/Chicago:20231220T183000
DTEND;TZID=America/Chicago:20231220T203000
CREATED:20231127T082556
DESCRIPTION:Click here for complete information and registration:  https:
 //bit.ly/3QYqZLT\nJoin me for a girls night out!\n\nSeating is limited\, s
 o grab your ticket now.  I'm so excited to share this live stamping event
  with you!\n\nYour $35 ticket includes:\n\n\n	Glass of wine OR coffee of y
 our choice\n	Kit of choice\n	Friendship and relaxation at no extra charge!
 \n\n\n\nEvent link: https://stampinup.net/crm/events/209008
LAST-MODIFIED:20231213T081254
LOCATION:Clear Light Coffee\, 2191 NW Military Hwy
ORGANIZER;CN=Candy Rattray:mailto:crattray@sbcglobal.net
SUMMARY:Kits & Sips
URL;VALUE=URI:https://stampinup.net/crm/events/209008
END:VEVENT
END:VCALENDAR
