BEGIN:VCALENDAR
VERSION:2.0
PRODID:icalendar-ruby
CALSCALE:GREGORIAN
METHOD:PUBLISH
BEGIN:VEVENT
DTSTAMP:20260420T160017Z
UID:event-208878@stampinup.net
DTSTART;TZID=America/Phoenix:20231209T100000
DTEND;TZID=America/Phoenix:20231209T113000
CREATED:20231124T081508
DESCRIPTION:Join me for this tun papercrafting class where we'll create a d
 esktop 2024 calendar (with notepad holder) and a new year card with Stampi
 n' Up! products. \n\nCost is $15 or free with a $25 purchase. Please RSVP
  to hold your spot and get address for event. This is the same class as De
 cember 12 and 13. \n\n \n\nEvent link: https://stampinup.net/crm/events/
 208878
LAST-MODIFIED:20231124T081508
LOCATION:My Home\, East Mesa\, Arizona
ORGANIZER;CN=Kim Quade:mailto:kimqskards@gmail.com
SUMMARY:Create with Kim--December 9
URL;VALUE=URI:https://stampinup.net/crm/events/208878
END:VEVENT
END:VCALENDAR
