BEGIN:VCALENDAR
VERSION:2.0
PRODID:icalendar-ruby
CALSCALE:GREGORIAN
METHOD:PUBLISH
BEGIN:VEVENT
DTSTAMP:20260425T164717Z
UID:event-208671@stampinup.net
DTSTART;TZID=Europe/Berlin:20231218T160000
DTEND;TZID=Europe/Berlin:20231218T180000
CREATED:20231120T004548
DESCRIPTION:Zur Kreativzeit treffen sich Anfänger und auch Fortgeschritten
 e die gerne gemeinsam kreativ sind.\nUnter Anleitung entstehen zur Zeit We
 ihnachtskarten\, Geschenkanhänger und vieles mehr.\nMöchtest du dabei se
 in\, dann melde dich bitte unter\nfrausonne-kreativ@gmx.de\nIch freue mich
  auf dich! Gruss Karla\n\nEvent link: https://stampinup.net/crm/events/208
 671
LAST-MODIFIED:20231120T004548
LOCATION:Heidehaus \, 14482 Potsdam  Großbeerenstrasse 98a
ORGANIZER;CN=Karla Schulze:mailto:frausonne-kreativ@gmx.de
SUMMARY:KREATIVZEIT
URL;VALUE=URI:https://stampinup.net/crm/events/208671
END:VEVENT
END:VCALENDAR
