BEGIN:VCALENDAR
VERSION:2.0
PRODID:icalendar-ruby
CALSCALE:GREGORIAN
METHOD:PUBLISH
BEGIN:VEVENT
DTSTAMP:20260419T204614Z
UID:event-208366@stampinup.net
DTSTART;TZID=America/New_York:20240716T133000
DTEND;TZID=America/New_York:20240716T153000
CREATED:20231115T164701
DESCRIPTION:Host code: EQQU9H6H\nShopping link with host code applied: ht
 tps://www.stampinup.com/?hostcode=EQQU9H6H\n\nWe get together every other 
 month to stamp--see new products and learn new techniques. Each member has
  a month designated as her hostess month--when she gets all the hostess be
 nefits. If you'd like to join a group\, ask me for details!\n\nIf you'd ju
 st like to attend a club sometime as a non-member\, YOU ARE WELCOME! The f
 irst time you attend as a non-member is FREE. The second time you will nee
 d to place a minimum order of $25 just as a member does.\n\nPlease contact
  me if you're interested: stephanieflath@gmail.com\n \n\nEvent link: htt
 ps://stampinup.net/crm/events/208366
LAST-MODIFIED:20240710T095531
LOCATION:my home
ORGANIZER;CN=Stephanie Flath:mailto:stephanieflath@gmail.com
SUMMARY:Stampers 6 - Linda F
URL;VALUE=URI:https://stampinup.net/crm/events/208366
END:VEVENT
END:VCALENDAR
