BEGIN:VCALENDAR
VERSION:2.0
PRODID:icalendar-ruby
CALSCALE:GREGORIAN
METHOD:PUBLISH
BEGIN:VEVENT
DTSTAMP:20260422T084225Z
UID:event-207646@stampinup.net
DTSTART;TZID=Australia/Sydney:20231119T050000
DTEND;TZID=Australia/Sydney:20231119T180000
CREATED:20231105T015216
DESCRIPTION:\n\nEvent link: https://stampinup.net/crm/events/207646
LAST-MODIFIED:20231105T015216
LOCATION:Heritage College Primary Campus\, Narre Warren South
ORGANIZER;CN=Rochelle Laird-Smith:mailto:rochelle@stampingflair.com
SUMMARY:Heritage College Sunday Funday
URL;VALUE=URI:https://stampinup.net/crm/events/207646
END:VEVENT
END:VCALENDAR
