BEGIN:VCALENDAR
VERSION:2.0
PRODID:icalendar-ruby
CALSCALE:GREGORIAN
METHOD:PUBLISH
BEGIN:VEVENT
DTSTAMP:20260421T114711Z
UID:event-206387@stampinup.net
DTSTART;TZID=America/Chicago:20231217T133000
DTEND;TZID=America/Chicago:20231217T143000
CREATED:20231022T181743
DESCRIPTION:Diva Day downline meeing\n\nEvent link: https://stampinup.net/c
 rm/events/206387
LAST-MODIFIED:20231022T181743
ORGANIZER;CN=Sandy McManus:mailto:needsaribbon@gmail.com
SUMMARY:Diva Day Downline Meeting
URL;VALUE=URI:https://stampinup.net/crm/events/206387
END:VEVENT
END:VCALENDAR
