BEGIN:VCALENDAR
VERSION:2.0
PRODID:icalendar-ruby
CALSCALE:GREGORIAN
METHOD:PUBLISH
BEGIN:VEVENT
DTSTAMP:20260420T021348Z
UID:event-206087@stampinup.net
DTSTART;TZID=America/Chicago:20231202T110000
DTEND;TZID=America/Chicago:20231202T120000
CREATED:20231018T223549
DESCRIPTION:Sign up for the private In Color Club ends.\n\nIn Color Club is
  an easy way to get all your 2023-2023 In Color products spread over 5 mon
 ths. \n\nThis is a special club open to my customers or anyone else that 
 is interested. Cost is $70 each month. Club begins in November\, ends in M
 arch. Special bonus just for my customers at the end of club. \n\nEvent l
 ink: https://stampinup.net/crm/events/206087
LAST-MODIFIED:20231018T223549
ORGANIZER;CN=Sandy McManus:mailto:needsaribbon@gmail.com
SUMMARY:Order In Color Club II month 2 supplies
URL;VALUE=URI:https://stampinup.net/crm/events/206087
END:VEVENT
END:VCALENDAR
