BEGIN:VCALENDAR
VERSION:2.0
PRODID:icalendar-ruby
CALSCALE:GREGORIAN
METHOD:PUBLISH
BEGIN:VEVENT
DTSTAMP:20260423T212142Z
UID:event-20605@stampinup.net
DTSTART;TZID=America/Los_Angeles:20191107T183000
DTEND;TZID=America/Los_Angeles:20191107T210000
CREATED:20191023T143415
DESCRIPTION:Ladies - Our November workshop is fast approaching!  Hope you 
 can join us.  I miss my out of town demos that can't attend!  See you so
 on!  If anyone is interested in joining my team please RSVP and come chec
 k out the fun we have!  All - Remember your usual supplies!  PLUS - brin
 g stuff  (creations) to share.  Love seeing your works!  Thanks!\n\nEve
 nt link: https://stampinup.net/crm/events/20605
LAST-MODIFIED:20191101T200846
LOCATION:Barb's House\, 220 W Javis Ave
ORGANIZER;CN=Barbara Mann:mailto:barbmann@mchsi.com
SUMMARY:Demo Club Workshop
URL;VALUE=URI:https://stampinup.net/crm/events/20605
END:VEVENT
END:VCALENDAR
