BEGIN:VCALENDAR
VERSION:2.0
PRODID:icalendar-ruby
CALSCALE:GREGORIAN
METHOD:PUBLISH
BEGIN:VEVENT
DTSTAMP:20260422T070735Z
UID:event-205988@stampinup.net
DTSTART;TZID=Europe/London:20231206T193000
DTEND;TZID=Europe/London:20231206T220000
CREATED:20231017T122910
DESCRIPTION:Here we make 4 cards using a variety of stamp sets\, the cost o
 f this evening is £12.\n\nClasses are lots of fun and a great way to meet
  new crafty friends. These classes are suitable for both beginners and exp
 erienced crafters alike.\n\nBooking is essential for all classes to ensure
  that classes are correctly catered for. Please remember to bring your own
  tools i.e. scissors\, adhesive etc\n\n\nEvent link: https://stampinup.net
 /crm/events/205988
LAST-MODIFIED:20231017T132339
ORGANIZER;CN=Sue McDonald:mailto:hello@scrapandstampwithsue.com
SUMMARY:Evening Card Class 
URL;VALUE=URI:https://stampinup.net/crm/events/205988
END:VEVENT
END:VCALENDAR
