BEGIN:VCALENDAR
VERSION:2.0
PRODID:icalendar-ruby
CALSCALE:GREGORIAN
METHOD:PUBLISH
BEGIN:VEVENT
DTSTAMP:20260424T230652Z
UID:event-205847@stampinup.net
DTSTART;TZID=America/Chicago:20231125T120000
DTEND;TZID=America/Chicago:20231125T160000
CREATED:20231016T152342
DESCRIPTION:Want to get your Christmas cards started? This is the class for
  you! You will create a total of 8 cards using the gorgeous One Horse Open
  Sleigh DSP\, and you will also go home with additional DSP do you can mak
 e more! \nWhen : Saturday November 25th from 12 until you are done.\nWhat
 's included: Lunch\, 8 cards\, half a package of DSP and lots of fun!\nOpt
 ion one: Class fee $40.00 which includes lunch\, 1/2 package of paper and 
 8 cards\nKits will be available as well. Add an additional $10.00 if needi
 ng to be shipped.\n\nEvent link: https://stampinup.net/crm/events/205847
LAST-MODIFIED:20231016T152342
LOCATION:My home\, Charleswood 
ORGANIZER;CN=Barb Stewart:mailto:altonbarb@shaw.ca
SUMMARY:Christmas Stamp A Stack
URL;VALUE=URI:https://stampinup.net/crm/events/205847
END:VEVENT
END:VCALENDAR
