BEGIN:VCALENDAR
VERSION:2.0
PRODID:icalendar-ruby
CALSCALE:GREGORIAN
METHOD:PUBLISH
BEGIN:VEVENT
DTSTAMP:20260422T093115Z
UID:event-205676@stampinup.net
DTSTART;TZID=America/Chicago:20231016T190000
DTEND;TZID=America/Chicago:20231016T192500
CREATED:20231015T080219
DESCRIPTION:Join me Live every Monday at 7:00 PM on my Facebook Page at Bar
 b Ink where  I will create a fun card using either a layout challenge\, c
 olour palette challenge\, or another fun twist! You can play along as I cr
 eate\, or participate throughout the week and share with the group! Hope y
 ou will join in the fun!\n\nEvent link: https://stampinup.net/crm/events/2
 05676
LAST-MODIFIED:20240812T193126
LOCATION:My Facebook page at Barb Ink\, https://www.facebook.com/BarbInkWpg
 ?mibextid=LQQJ4d
ORGANIZER;CN=Barb Stewart:mailto:altonbarb@shaw.ca
SUMMARY:Make It Monday
URL;VALUE=URI:https://stampinup.net/crm/events/205676
RRULE:FREQ=WEEKLY
END:VEVENT
END:VCALENDAR
