BEGIN:VCALENDAR
VERSION:2.0
PRODID:icalendar-ruby
CALSCALE:GREGORIAN
METHOD:PUBLISH
BEGIN:VEVENT
DTSTAMP:20260419T134447Z
UID:event-205653@stampinup.net
DTSTART;TZID=America/Chicago:20231119T120000
DTEND;TZID=America/Chicago:20231119T160000
CREATED:20231014T163702
DESCRIPTION:Calling all scrapbookers\, are you ready to start getting your 
 Christmas on? I am hosting an afternoon scrapbooking event. \nWhat's incl
 uded? Four 12 x 12 winter themad scrapbook pages\, plus you will go home w
 ith an additional 4 sheets of the beautiful Winter Meadow DSP and a full b
 elly as lunch. is also included!\nRSVP: Saturday October 28th \nTime: 12:
 00 PM until you are done\nCost: $55.00\n*I will also have a selection of r
 etired seasonal products for purchase\, exclusively for attendees only!\n\
 nEvent link: https://stampinup.net/crm/events/205653
LAST-MODIFIED:20231018T184115
LOCATION:My Home\, Charleswood
ORGANIZER;CN=Barb Stewart:mailto:altonbarb@shaw.ca
SUMMARY:Winter Wonderland Scrapbooking
URL;VALUE=URI:https://stampinup.net/crm/events/205653
END:VEVENT
END:VCALENDAR
