BEGIN:VCALENDAR
VERSION:2.0
PRODID:icalendar-ruby
CALSCALE:GREGORIAN
METHOD:PUBLISH
BEGIN:VEVENT
DTSTAMP:20260420T045042Z
UID:event-205598@stampinup.net
DTSTART;TZID=America/Los_Angeles:20231230T130000
DTEND;TZID=America/Los_Angeles:20231230T170000
CREATED:20231013T181435
DESCRIPTION:\n\nEvent link: https://stampinup.net/crm/events/205598
LAST-MODIFIED:20231013T181435
ORGANIZER;CN=Sheri Sansbury:mailto:cutandpastewithSheri@gmail.com
SUMMARY:Flip Calendar Class
URL;VALUE=URI:https://stampinup.net/crm/events/205598
END:VEVENT
END:VCALENDAR
