BEGIN:VCALENDAR
VERSION:2.0
PRODID:icalendar-ruby
CALSCALE:GREGORIAN
METHOD:PUBLISH
BEGIN:VEVENT
DTSTAMP:20260422T193602Z
UID:event-205434@stampinup.net
DTSTART;TZID=America/New_York:20231103T174500
DTEND;TZID=America/New_York:20231103T193000
CREATED:20231011T083628
DESCRIPTION:Georgia Event Massage Presents - Craft &amp\; Cookie Night in L
 ula\nRustic Christmas Countdown\nKit contains everything you need to creat
 e a fun Advent Calendar\nEvent Fee $25\nRSVP and Prepay by October 27th to
  hold your spot\n\nEvent link: https://stampinup.net/crm/events/205434
LAST-MODIFIED:20231011T083628
LOCATION:Georgia Event Massage\, 6102 C Banks St
ORGANIZER;CN=Jini Merck:mailto:stampwithjini@gmail.com
SUMMARY:Craft & Cookie Night 
URL;VALUE=URI:https://stampinup.net/crm/events/205434
END:VEVENT
END:VCALENDAR
