BEGIN:VCALENDAR
VERSION:2.0
PRODID:icalendar-ruby
CALSCALE:GREGORIAN
METHOD:PUBLISH
BEGIN:VEVENT
DTSTAMP:20260424T030330Z
UID:event-205157@stampinup.net
DTSTART;TZID=America/Chicago:20231001T203500
DTEND;TZID=America/Chicago:20231001T213500
CREATED:20231007T220235
DESCRIPTION:Come Stamp with Me FB Live. See what kind of Stamped project I 
 am making tonight.\n\nEvent link: https://stampinup.net/crm/events/205157
LAST-MODIFIED:20231007T220235
ORGANIZER;CN=Laura Zaraza:mailto:STAMPINGOOSE@CHARTER.NET
SUMMARY:Come Stamp With Me Facebook Live
URL;VALUE=URI:https://stampinup.net/crm/events/205157
RRULE:FREQ=WEEKLY;COUNT=20;BYDAY=SU
END:VEVENT
END:VCALENDAR
