BEGIN:VCALENDAR
VERSION:2.0
PRODID:icalendar-ruby
CALSCALE:GREGORIAN
METHOD:PUBLISH
BEGIN:VEVENT
DTSTAMP:20260424T130317Z
UID:event-204304@stampinup.net
DTSTART;TZID=America/Chicago:20231116T183000
DTEND;TZID=America/Chicago:20231116T203000
CREATED:20231001T141827
DESCRIPTION:We'll be featuring winter themed cards featuring the Magical Me
 adow Bundle.  You'll be making 6 cards (2 each of 3 designs) and you can 
 use your choice of sentiments.  Class fee is $15 or free with a minimum o
 rder.  Please RSVP by November 14th.  \n\nEvent link: https://stampinup
 .net/crm/events/204304
LAST-MODIFIED:20231029T191214
LOCATION:Sandy's house\, 606 Centre Grove Circle\, Jonesboro\, AR
ORGANIZER;CN=Sandy Risi:mailto:sjrisix@aol.com
SUMMARY:November Card Class
URL;VALUE=URI:https://stampinup.net/crm/events/204304
END:VEVENT
END:VCALENDAR
