BEGIN:VCALENDAR
VERSION:2.0
PRODID:icalendar-ruby
CALSCALE:GREGORIAN
METHOD:PUBLISH
BEGIN:VEVENT
DTSTAMP:20260419T164847Z
UID:event-204082@stampinup.net
DTSTART;TZID=America/New_York:20231119T130000
DTEND;TZID=America/New_York:20231119T153000
CREATED:20230929T073308
DESCRIPTION:Join me for a fun afternoon as we create 8 fun projects with th
 e super popular\, cute and versatile Trucking Along bundle. Your $72 regis
 tration fee will include the following\;\n- a welcome gift from me\n- the 
 materials &amp\; instructions (online and/or in person) to create 8 cute p
 rojects\n- package of Basic White Notecards &amp\; Envelopes\n- Trucking A
 long stamp set &amp\; punch\n\n*Add $18 to have your kit shipped to you wi
 th tracking if needed. \n\nBONUS GIFT for those who RSVP with payment on 
 or before October 15. \n\nRSVP with payment to krissie-76@hotmail.com on 
 or before Nov. 1 to be included. \n\nPlease note this class is offered in
  person at 2 different dates and is also offered as. Class To Go online. B
 e sure to clarify which date you are attending if you attend in person. Ca
 n't wait to share this super fun stamp set with you!\n\nEvent link: https:
 //stampinup.net/crm/events/204082
LAST-MODIFIED:20230929T073308
LOCATION:In Person or Online\, 4320 Vasey Rd
ORGANIZER;CN=Kristen Hancock:mailto:krissie-76@hotmail.com
SUMMARY:Trucking Along Class
URL;VALUE=URI:https://stampinup.net/crm/events/204082
END:VEVENT
END:VCALENDAR
