BEGIN:VCALENDAR
VERSION:2.0
PRODID:icalendar-ruby
CALSCALE:GREGORIAN
METHOD:PUBLISH
BEGIN:VEVENT
DTSTAMP:20260419T154004Z
UID:event-203852@stampinup.net
DTSTART;TZID=Europe/London:20231005T110000
DTEND;TZID=Europe/London:20231005T113000
CREATED:20230927T033009
DESCRIPTION:Coffee and Card is set of four or five weekly pre-recorded vide
 o classes released at 11am every Thursday during the month on my YouTube c
 hannel. Once released you can watch it any time and craft along at your ow
 n pace using the kits I provide. Each month features different products\, 
 the kit includes everything you need you just need to add ink and adhesive
 s.\nThis month we are using the Joy of Noel a versatile Christmas stamp s
 et with matching dies. The course will commence on Thursday 5th October
  2023 for 4 weeks.\n\nCOURSE INCLUDES\n\nGold Option - £45.75\nThe beat
 iful stamp set and coordinating die set\n\nYour kit includes\nJoy of Noel
  stamp set \nJoy of Noel dies\n4 weeks of card kits and tuition\n\nSilve
 r Option - £31\n\nIf you don't want the dies you can still join in\, yo
 u will need to do some fussy cutting.\n\nYour kit includes\nJoy of Noel st
 amp set\n4 weeks of card kits and tuition\n\nBronze Option - £12.00\nIf y
 ou already have the stamp set\n\nYour kit includes\n4 weeks of card kits a
 nd tuition\n\nDemonstrator Discount\nIf you are one of my downlines and yo
 u have the bundle the kit costs £8.00\n\n\nEvent link: https://stampinup
 .net/crm/events/203852
LAST-MODIFIED:20230927T145438
LOCATION:On Line\, YouTube
ORGANIZER;CN=Linda Ellis:mailto:linda@strawberry.me.uk
SUMMARY:Coffee and Card - Joy of Noel
URL;VALUE=URI:https://stampinup.net/crm/events/203852
END:VEVENT
END:VCALENDAR
