BEGIN:VCALENDAR
VERSION:2.0
PRODID:icalendar-ruby
CALSCALE:GREGORIAN
METHOD:PUBLISH
BEGIN:VEVENT
DTSTAMP:20260422T133433Z
UID:event-203402@stampinup.net
DTSTART;TZID=America/New_York:20231130T180000
DTEND;TZID=America/New_York:20231130T210000
CREATED:20230921T113155
DESCRIPTION:You're invited to have some fun with me!\n\nCome to Bingo Night
 .....Stampin' Style!\n\nChance to win LOTS of Holiday Mini Catalog produc
 t - get it for FREE tonight instead of buying it!! \n\nWe'll play 6 or mo
 re games of Bingo with hundreds of dollars in prizes to be won from the ne
 w Catalog!!  \n\nPLUS...  pillow gifts\, a gift certificate toward an or
 der that night   \n\nAND...\n\na GRAND PRIZE COVERALL GAME!!  - the win
 ner receives a  Stampin' Up shopping spree!!\n\nThe winner at the last bi
 ngo night went home with $100 in FREE PRODUCT!!\n\nBring a friend along an
 d have an enjoyable night out!\n\nPlus you'll make 2 projects that night..
 .so you're ALL winners!\n\nCost is $30.00\n\n(Chance to win lots of awesom
 e prizes!)\n\nSpace is limited!\n\n \n\nRSVP and PRE-PAY by Monday\, Nove
 mber 20.\n\n(so I have time to get all the prizes here!)\n\nDon't forget y
 our scissors and adhesive.\n\n\nEvent link: https://stampinup.net/crm/even
 ts/203402
LAST-MODIFIED:20230921T113155
LOCATION:Peace Lutheran Church\, 325 E Warwick Dr.   Alma\, MI  48801
ORGANIZER;CN=Amy Frillici:mailto:amy.frillici@yahoo.com
SUMMARY:Bingo Night Stampin’ Style
URL;VALUE=URI:https://stampinup.net/crm/events/203402
END:VEVENT
END:VCALENDAR
