BEGIN:VCALENDAR
VERSION:2.0
PRODID:icalendar-ruby
CALSCALE:GREGORIAN
METHOD:PUBLISH
BEGIN:VEVENT
DTSTAMP:20260419T235641Z
UID:event-202500@stampinup.net
DTSTART;TZID=America/New_York:20230911T000000
DTEND;TZID=America/New_York:20230929T120000
CREATED:20230911T170157
DESCRIPTION:Pick of the Patch Class To Go\n\n  \n\n \n\nLet’s make some
  fun cards!!  This class features the Pick of the Patch Bundle\, Them Bo
 nes Designer Series Paper\, Neutrals Sequins and Natural Wavy Trim.\n\n \
 n\nYou will need the following ink pads:  Pumpkin Pie\, Cajun Craze and O
 ld Olive\n\n \n\n \n\n \n\nI recommend using Stampin’ Seal to assembl
 e your projects.  You will also need Stampin’ Dimensionals\, Mini Dime
 nsionals and Mini Glue Dots.\n\n \n\n\n \n\nYou can order ink and adhesi
 ve here.\n\n \n\n\n \n\nThe class kits will include FOUR project kits (2
  each of 4 designs) and the full color step by step PDF Tutorial.\n\n \n\
 n \n\nEach class kit will arrive at your door sorted and organized by pro
 ject.  I will do all of the scoring\, punching and cutting for you (other
  than what needs to be done with your new dies).\n\n \n\n \n\n \n\n \n
 \nThere are four options for this class to go.  \n\n \n\n       
      \n\n \n\n \n\nOption #1 - $73\n\n \n\nThis is the full Class 
 To Go.  Included are:\n\n \n\n-Pick of the Patch Bundle (a $38.50 value)
 \n\n-Natural Wavy Trim\n\n-Neutrals Sequins\n\n-1/4 pack of Them Bones Des
 igner Series Paper (FREE!!)\n\n-Make &amp\; Take materials for all eight p
 rojects (2 each of 4 designs)\n\n-Full step-by-step PDF Tutorial\n\n \n\n
  \n\nWhen you choose option #1\, you are also getting the Them Bones DSP 
  for FREE!!\n\n \n\n \n\n*Some items may go on back order or become uno
 rderable\, which could cause a delay in shipping.   \n\n \n\n \n\nEma
 il me for the registration link at amy.frillici@yahoo.com\n\n \n\n \n\n
  \n\n       \n\n Option #2 - $32\n\n \n\nThis is the Class To Go ki
 t for those of you who already own the Pick of the Patch Bundle.  You wi
 ll need the stamps and dies to create these projects\, so only choose this
  option if you already own them.   \n\n \n\nYour class to go kit will i
 nclude:\n\n \n\n \n\n-Natural Wavy Trim\n\n-Neutrals Sequins\n\n-1/4 pac
 k of Them Bones Designer Series Paper\n\n-Make &amp\; Take materials for a
 ll eight projects (2 each of 4 designs)\n\n-Full step-by-step PDF Tutorial
 \n\n \n\n \n\n \n\n \n\nEmail me for the registration link at amy.fril
 lici@yahoo.com\n\n\n \n\n \n\nOption #1 and #2 ship priority mail for $1
 0. If you are local (Alma\, MI) and would like to pick up your class kit\,
  choose "Porch Pick Up" to save on shipping. \n\n \n\n \n\nOption #3 - 
 $15\n\n \n\nPDF Tutorial only - want to cut your won cardstock and alread
 y own the products?  This is the option for you.  If you purchase the PD
 F Tutorial Only option\, you will be emailed the tutorial.  If you do not
  receive it within 24 hours of purchase\, please email me!  Email me for 
 the registration link at amy.frillici@yahoo.com.  PDFs are always free f
 or my downline!  \n\n \n\nJoin my team and get all of my PDFs for FREE!
 ! \n\n \n\n \n\n \n\nOption #4 - $15\n\nInkspired Stampers Members (my
  downline) can purchase this option for the make and take kits and PDF Tut
 orial.  Email me for the registration link at amy.frillici@yahoo.com.  W
 ant to join my team and get all my class kits at a significantly low price
 ?\n\n \n\nDetails about purchasing the Starter Kit can be found here. \n
 \n \n\n\n \n\n\n \n\n**Substitutions may be made for stamp set used in 
 this Class To Go if you already have the set or would like something else.
   Please email me at time of registration with any substitutions.\n\n \n
 \n\n \n\n \n\nAll class kits and included product will be ordered and pr
 epared after the deadline. This is a preorder only\, and per SU policy\, I
  do not have products on hand ready to ship. Because of this\, it takes ab
 out 10-12 days after the deadline for me to order\, cut\, prepare and ship
  all the class kits.  Class kits can only be mailed within the United St
 ates. If you live out of the US\, you can still purchase the PDF.\n\n \n
 \n\n \n\n \n\nRegistration will close on Friday\, September 29.\n\n \n\
 n \n\nExpected shipping date of all kits is no later than October 11.\n\n
 \nEvent link: https://stampinup.net/crm/events/202500
LAST-MODIFIED:20230911T170157
LOCATION:The comfort of your own home!
ORGANIZER;CN=Amy Frillici:mailto:amy.frillici@yahoo.com
SUMMARY:Pick of the Patch Class To Go
URL;VALUE=URI:https://stampinup.net/crm/events/202500
END:VEVENT
END:VCALENDAR
