BEGIN:VCALENDAR
VERSION:2.0
PRODID:icalendar-ruby
CALSCALE:GREGORIAN
METHOD:PUBLISH
BEGIN:VEVENT
DTSTAMP:20260421T141653Z
UID:event-202295@stampinup.net
DTSTART;TZID=America/Halifax:20231113T193000
DTEND;TZID=America/Halifax:20231113T213000
CREATED:20230908T070758
DESCRIPTION:Make 4 cards with a stained glass effect!\n\nWe'll use window s
 heets &amp\; vellum. Featuring the So Very Merry Stamp Set.\n\nSign-up dea
 dline: 24 September\n\nLearn more here\n\nPhoto credit: Image © 2023 Stam
 pin' Up!®\n\nEvent link: https://stampinup.net/crm/events/202295
LAST-MODIFIED:20230908T070758
LOCATION:Online
ORGANIZER;CN=Julie Golding Page:mailto:julies.craft.attic@gmail.com
SUMMARY:Stained Glass Effect Class
URL;VALUE=URI:https://stampinup.net/crm/events/202295
END:VEVENT
END:VCALENDAR
