BEGIN:VCALENDAR
VERSION:2.0
PRODID:icalendar-ruby
CALSCALE:GREGORIAN
METHOD:PUBLISH
BEGIN:VEVENT
DTSTAMP:20260422T182700Z
UID:event-201800@stampinup.net
DTSTART;TZID=America/Chicago:20230904T235000
DTEND;TZID=America/Chicago:20230904T235500
CREATED:20230903T103204
DESCRIPTION:Enjoy a sampling of all the new holiday papers and ribbons with
 out the expense of buying full packs! \n\nMore info on my blog at https:
 //simplysweetinkdesigns.com/2023-holiday-catalogpaper-shares. \n\nEmail m
 e at debra@simplysweetinkdesigns.com to reserve your holiday shares.\n\nLa
 st day to reserve your shares: 9/4/23\n\nEvent link: https://stampinup.net
 /crm/events/201800
LAST-MODIFIED:20230903T103204
ORGANIZER;CN=Debra Harrison:mailto:ddharrison25@gmail.com
SUMMARY:Holiday Paper & Ribbon Shares (sign-up deadline)
URL;VALUE=URI:https://stampinup.net/crm/events/201800
END:VEVENT
END:VCALENDAR
