BEGIN:VCALENDAR
VERSION:2.0
PRODID:icalendar-ruby
CALSCALE:GREGORIAN
METHOD:PUBLISH
BEGIN:VEVENT
DTSTAMP:20260421T225227Z
UID:event-201606@stampinup.net
DTSTART;TZID=America/Chicago:20230909T100000
DTEND;TZID=America/Chicago:20230909T110000
CREATED:20230901T161550
DESCRIPTION:This Saturday Morning Share will feature more from our new Mini
  Catalog for our Catalog Kick-Off Part 2!  Lisa will be making two projec
 ts...don't miss it!\n11 am ET\, 10 am CT\, 9 am MT\, 8 am PT\nYouTube: htt
 ps://www.youtube.com/LisaBrownInk\n\nEvent link: https://stampinup.net/crm
 /events/201606
LAST-MODIFIED:20230901T161550
ORGANIZER;CN=Lisa Solis Brown:mailto:lisa@inkandinspirations.com
SUMMARY:Saturday Morning Share on YouTube
URL;VALUE=URI:https://stampinup.net/crm/events/201606
END:VEVENT
END:VCALENDAR
