BEGIN:VCALENDAR
VERSION:2.0
PRODID:icalendar-ruby
CALSCALE:GREGORIAN
METHOD:PUBLISH
BEGIN:VEVENT
DTSTAMP:20260421T114721Z
UID:event-201575@stampinup.net
DTSTART;TZID=America/Chicago:20230930T100000
DTEND;TZID=America/Chicago:20230930T130000
CREATED:20230901T114417
DESCRIPTION:I'm collaborating with three other demonstrators to share Suite
  Collections from the September-December 2023 Mini Catalog. Check out all 
 the details at suitesinseason.com\n\nThis event will be available to watch
  later\, if you'd prefer. Registration deadline: September 8\, 2023.\n\nEv
 ent link: https://stampinup.net/crm/events/201575
LAST-MODIFIED:20230901T114417
LOCATION:Facebook
ORGANIZER;CN=Amy Rich:mailto:stampinnut@me.com
SUMMARY:Suites in Season
URL;VALUE=URI:https://stampinup.net/crm/events/201575
END:VEVENT
END:VCALENDAR
