BEGIN:VCALENDAR
VERSION:2.0
PRODID:icalendar-ruby
CALSCALE:GREGORIAN
METHOD:PUBLISH
BEGIN:VEVENT
DTSTAMP:20260423T144729Z
UID:event-201533@stampinup.net
DTSTART;TZID=America/Chicago:20231111T103000
DTEND;TZID=America/Chicago:20231111T123000
CREATED:20230901T062625
DESCRIPTION:Stamp a Stack!  This is a special class.  We'll make 20 cards
 ... 4 each of 5 designs.   Just $40. \n\nor...make 4-5 greeting cards\,
  ready to give or drop in the mail.   All supplies and instruction are p
 rovided!  Varied greetings will be available.   Just $20!  RSVP to res
 erve your spot.    \n\nPrefer a different day/time?  See more classes 
 on my website hollycrawford@stampinup.net.   \n\nEvent link: https://sta
 mpinup.net/crm/events/201533
LAST-MODIFIED:20231110T150430
LOCATION:Alternatives/Open Sky Whitinsville\, 60 Douglas Road\, Whitinsvill
 e 
ORGANIZER;CN=Holly Crawford:mailto:holly.stamps@me.com
SUMMARY:Make Your Own Greeting Cards
URL;VALUE=URI:https://stampinup.net/crm/events/201533
END:VEVENT
END:VCALENDAR
