BEGIN:VCALENDAR
VERSION:2.0
PRODID:icalendar-ruby
CALSCALE:GREGORIAN
METHOD:PUBLISH
BEGIN:VEVENT
DTSTAMP:20260424T204255Z
UID:event-200495@stampinup.net
DTSTART;TZID=America/Chicago:20231230T100000
DTEND;TZID=America/Chicago:20231230T120000
CREATED:20230821T070552
DESCRIPTION:Let's get a head start on your Birthday cards for the new year.
  \n\nIn this class you'll make 6 cards using the Zoo Crew Bundle. You'll 
 also receive a package of the Ribbon Duo Combo Ribbon and 1/2 package of 
 the Zoo Crew Designer Series Paper. Which will be used to make the cards.
  \n\nSome cutting and fussy cutting is required. The \\ sentiment stamp 
 will be supply for the In Person class\n\nI'll be using the Zany Zoo stamp
  set.\n\nCOST-$30\n\nRSVP and prepayment required by December 1st.\n\n\nEv
 ent link: https://stampinup.net/crm/events/200495
LAST-MODIFIED:20230821T070552
LOCATION:Winnipeg \, Will be provided when registered 
ORGANIZER;CN=Sharon Davies:mailto:sharic1@shaw.ca
SUMMARY:Zoo Crew Birthday Cards
URL;VALUE=URI:https://stampinup.net/crm/events/200495
END:VEVENT
END:VCALENDAR
