BEGIN:VCALENDAR
VERSION:2.0
PRODID:icalendar-ruby
CALSCALE:GREGORIAN
METHOD:PUBLISH
BEGIN:VEVENT
DTSTAMP:20260419T194259Z
UID:event-200165@stampinup.net
DTSTART;TZID=Australia/Sydney:20230923T100000
DTEND;TZID=Australia/Sydney:20230923T160000
CREATED:20230815T174033
DESCRIPTION:\n\nEvent link: https://stampinup.net/crm/events/200165
LAST-MODIFIED:20230815T174033
ORGANIZER;CN=Janine Rawlins:mailto:jannic@bigpond.com
SUMMARY:BackStage
URL;VALUE=URI:https://stampinup.net/crm/events/200165
END:VEVENT
END:VCALENDAR
