BEGIN:VCALENDAR
VERSION:2.0
PRODID:icalendar-ruby
CALSCALE:GREGORIAN
METHOD:PUBLISH
BEGIN:VEVENT
DTSTAMP:20260421T005719Z
UID:event-199496@stampinup.net
DTSTART;TZID=America/New_York:20230908T183000
DTEND;TZID=America/New_York:20230908T213000
CREATED:20230808T125759
DESCRIPTION:Want to make SCRAPBOOK layouts? Come join me for the next Quic
 k &amp\; Cute SCRAPBOOK Class at Tie One On Creativity Bar in Kingston on 
 Friday\, September 8th from 6:30-9:30 pm\n\nCost is $36 ($31.86 + HST) a
 nd includes the Curved Occasions* stamp set and all the consumable produc
 ts needed to create 3 12x12 scrapbook layouts (3 designs\, 1 of each desig
 n)!\n\nRegistration for the class ends on August 28th to allow for order
 ing\, and pre-paid registration is required to hold your spot.   Want th
 e kit but can't attend on the 8th?  Let us know\, and we can arrange to s
 hip your kit to you after the 8th!  Please note that for shipped kits\, a
 dhesive and ink is not included.\n\nSpace is limited\, pre-registration is
  required.\n\nPlease do not bring outside food or drink\, food and drink a
 re available for purchase from Tie One On Creativity Bar (1329 Gardiners R
 d. Suite 109 Kingston\, ON\, across from the Invista Centre)--make it the 
 ultimate night out and grab a few friends for dinner &amp\; scrapbooking! 
 Parking is free. We will be located on the second level of the building\, 
 and unfortunately\, it is not fully accessible. Unable to make the class? 
 This class will also be available in a to-go format!\n\n*Although stamp se
 ts are rarely back-ordered\, in the event that the specified stamp set is 
 unavailable on August 28th\, another stamp set of equivalent value will b
 e substituted. In the event of a lockdown\, if the lockdown is announced p
 rior to August 28th (when materials are ordered)\, event fees will be re
 funded. If a lockdown is announced between August 28th and September 8th
  (after materials are ordered)\, the class will be moved to an online for
 mat. Please note that the same cut-offs apply for cancellations of any kin
 d as this class is product-based.\n\nPlease note that a ticket will not be
  emailed. The receipt of payment is automatically recorded. If you are pla
 nning to attend with a group and want to be seated together\, please let u
 s know!\n\n\nEvent link: https://stampinup.net/crm/events/199496
LAST-MODIFIED:20230808T125759
LOCATION:Tie One On Creativity Bar\, 1329 Gardiners Rd. Suite 109 Kingston\
 , ON
ORGANIZER;CN=Lisa Henderson:mailto:lisa.henderson003@gmail.com
SUMMARY:September Quick & Cute Scrapbook Class
URL;VALUE=URI:https://stampinup.net/crm/events/199496
END:VEVENT
END:VCALENDAR
