BEGIN:VCALENDAR
VERSION:2.0
PRODID:icalendar-ruby
CALSCALE:GREGORIAN
METHOD:PUBLISH
BEGIN:VEVENT
DTSTAMP:20260419T211214Z
UID:event-198754@stampinup.net
DTSTART;TZID=America/Chicago:20231115T150000
DTEND;TZID=America/Chicago:20231116T193000
CREATED:20230731T102512
DESCRIPTION:Make 10 awesome handmade Christmas Cards (2 each of 5 designs)!
   Details and registration info coming soon!\n\nEvent link: https://stamp
 inup.net/crm/events/198754
LAST-MODIFIED:20230731T102512
LOCATION:Amy's Stamping Space\, Denton\, TX
ORGANIZER;CN=Amy Storrie:mailto:amy@stampedwithjoy.com
SUMMARY:Christmas Card Class - to go or in person
URL;VALUE=URI:https://stampinup.net/crm/events/198754
END:VEVENT
END:VCALENDAR
