BEGIN:VCALENDAR
VERSION:2.0
PRODID:icalendar-ruby
CALSCALE:GREGORIAN
METHOD:PUBLISH
BEGIN:VEVENT
DTSTAMP:20260421T040100Z
UID:event-198694@stampinup.net
DTSTART;VALUE=DATE:20230913
DTEND;VALUE=DATE:20230913
CREATED:20230730T072227
DESCRIPTION:La rentrée est là et je reprends les ateliers créatifs à la
  MJC d'Entraigues. Venez faire un essai gratuit pour découvrir l'activit
 é du scrapbooking.\n\nEvent link: https://stampinup.net/crm/events/198694
LAST-MODIFIED:20230730T072227
LOCATION:Entraigues sur sorgues\, MJC Place de l'église
ORGANIZER;CN=Valerie Robert:mailto:valerie.robert84@orange.fr
SUMMARY:Reprise des ateliers créatifs
URL;VALUE=URI:https://stampinup.net/crm/events/198694
END:VEVENT
END:VCALENDAR
