BEGIN:VCALENDAR
VERSION:2.0
PRODID:icalendar-ruby
CALSCALE:GREGORIAN
METHOD:PUBLISH
BEGIN:VEVENT
DTSTAMP:20260420T044500Z
UID:event-198626@stampinup.net
DTSTART;TZID=America/New_York:20231104T110000
DTEND;TZID=America/New_York:20231104T140000
CREATED:20230729T085928
DESCRIPTION:Join me for my annual Christmas Card Buffet!\n\nSaturday\, Nove
 mber 4\n11AM - 2PM\n\nTicket Price: $60\n\nTicket Includes:\n- 12 Christma
 s Cards\n- PDF Tutorials\n- Candy\n- Refreshments\n- Lots of Holiday FUN!\
 n\nSign up by Saturday\, October 7\, 2023.\n\nSee you there!\n\nEvent link
 : https://stampinup.net/crm/events/198626
LAST-MODIFIED:20230929T050920
LOCATION:Jen's House
ORGANIZER;CN=Jennifer Roque:mailto:stampcampwithjen@gmail.com
SUMMARY:Christmas Card Buffet
URL;VALUE=URI:https://stampinup.net/crm/events/198626
END:VEVENT
END:VCALENDAR
