BEGIN:VCALENDAR
VERSION:2.0
PRODID:icalendar-ruby
CALSCALE:GREGORIAN
METHOD:PUBLISH
BEGIN:VEVENT
DTSTAMP:20260420T072900Z
UID:event-197628@stampinup.net
DTSTART;TZID=America/Chicago:20230923T093000
DTEND;TZID=America/Chicago:20230923T120000
CREATED:20230717T135442
DESCRIPTION:Come get your copy of the new Holiday catalog. Make &amp\; Take
 s\, lots of samples\, door prizes and goodies. Place your order for a pape
 r share or your favorite stamp set.\n\nEvent link: https://stampinup.net/c
 rm/events/197628
LAST-MODIFIED:20230910T061511
LOCATION:Robyn's Roosst\, 3025 Vega Ave
ORGANIZER;CN=Robyn Rasset:mailto:rrasset@frontier.com
SUMMARY:Holiday Catalog Open House
URL;VALUE=URI:https://stampinup.net/crm/events/197628
END:VEVENT
END:VCALENDAR
